BEGIN:VCALENDAR
VERSION:2.0
PRODID:-// - ECPv6.2.8.1//NONSGML v1.0//EN
CALSCALE:GREGORIAN
METHOD:PUBLISH
X-ORIGINAL-URL:https://aisne.1000pattes.guide
X-WR-CALDESC:évènements pour 
REFRESH-INTERVAL;VALUE=DURATION:PT1H
X-Robots-Tag:noindex
X-PUBLISHED-TTL:PT1H
BEGIN:VTIMEZONE
TZID:Europe/Paris
BEGIN:DAYLIGHT
TZOFFSETFROM:+0100
TZOFFSETTO:+0200
TZNAME:CEST
DTSTART:20240331T010000
END:DAYLIGHT
BEGIN:STANDARD
TZOFFSETFROM:+0200
TZOFFSETTO:+0100
TZNAME:CET
DTSTART:20241027T010000
END:STANDARD
END:VTIMEZONE
BEGIN:VEVENT
DTSTART;TZID=Europe/Paris:20240608T140000
DTEND;TZID=Europe/Paris:20240608T140000
DTSTAMP:20260423T120617
CREATED:20240211T210818Z
LAST-MODIFIED:20240211T210818Z
UID:10000070-1717855200-1717855200@aisne.1000pattes.guide
SUMMARY:X-Race de Vénérieu (38)
DESCRIPTION:Cross triathlon jeunes\, XS\, S\, M.  \n+ d’infos sur les types de course : https://www.fftri.com/pratiquer/disciplines \nInscription : apitri.fr. Page Facebook (API TRI)\, Instagram (api_tri)\, Youtube (API TRI).  \nContact : apitriathlon@gmail.com\, 07 69 07 75 45.  \n 
URL:https://aisne.1000pattes.guide/event/x-race-de-venerieu-38/
LOCATION:X-Race de Vénérieu (38)\, Vénérieu\, France
CATEGORIES:Cross triathlon
END:VEVENT
BEGIN:VEVENT
DTSTART;TZID=Europe/Paris:20240623T100000
DTEND;TZID=Europe/Paris:20240623T100000
DTSTAMP:20260423T120617
CREATED:20240210T151329Z
LAST-MODIFIED:20240210T151329Z
UID:10000037-1719136800-1719136800@aisne.1000pattes.guide
SUMMARY:Triathlon nature du Valbonnais (38)
DESCRIPTION:Cross triathlon XS\, M (solo\, duo ou trio). \nLa Valbo (Distance M\, avec 750 m natation / 20 km VTT / 5\,5 km de course à pied) / La Valbo Famille (Distance XS\, avec 250 m natation / 7 km VTT / 2\,5 km course à pied) et les épreuves Enfants (de 5 à 14 ans). \nInscription : triathlon-valbonnais.onlinetri.com. Page Facebook (Triathlon Nature du Valbonnais). \n+ d’infos sur les types de course : https://www.fftri.com/pratiquer/disciplines \nContact : anthony@idee-alpe.fr\, 04 76 40 19 22.
URL:https://aisne.1000pattes.guide/event/triathlon-nature-du-valbonnais-38/
CATEGORIES:Cross triathlon
END:VEVENT
END:VCALENDAR