BEGIN:VCALENDAR
VERSION:2.0
PRODID:-// - ECPv6.2.8.1//NONSGML v1.0//EN
CALSCALE:GREGORIAN
METHOD:PUBLISH
X-ORIGINAL-URL:https://aisne.1000pattes.guide
X-WR-CALDESC:évènements pour 
REFRESH-INTERVAL;VALUE=DURATION:PT1H
X-Robots-Tag:noindex
X-PUBLISHED-TTL:PT1H
BEGIN:VTIMEZONE
TZID:Europe/Paris
BEGIN:DAYLIGHT
TZOFFSETFROM:+0100
TZOFFSETTO:+0200
TZNAME:CEST
DTSTART:20260329T010000
END:DAYLIGHT
BEGIN:STANDARD
TZOFFSETFROM:+0200
TZOFFSETTO:+0100
TZNAME:CET
DTSTART:20261025T010000
END:STANDARD
END:VTIMEZONE
BEGIN:VEVENT
DTSTART;TZID=Europe/Paris:20260422T140000
DTEND;TZID=Europe/Paris:20260422T140000
DTSTAMP:20260422T132255
CREATED:20260309T135315Z
LAST-MODIFIED:20260309T135315Z
UID:10000175-1776866400-1776866400@aisne.1000pattes.guide
SUMMARY:Trail des Bambins - Aizy-Jouy
DESCRIPTION:A partir de 14h : de 5 à 15 ans. RdV place de la mairie. \nFacebook : Association Speed aisne man \nContact : speedaisneman@gmail.com
URL:https://aisne.1000pattes.guide/event/trail-des-bambins-aizy-jouy/
LOCATION:Trail des bambins\, Aizy-Jouy\, France
CATEGORIES:Course pour enfants
END:VEVENT
END:VCALENDAR